BEGIN:VCALENDAR
VERSION:2.0
PRODID:-//Marley Peifer - ECPv6.15.20//NONSGML v1.0//EN
CALSCALE:GREGORIAN
METHOD:PUBLISH
X-ORIGINAL-URL:https://marleypeifer.com
X-WR-CALDESC:Events for Marley Peifer
REFRESH-INTERVAL;VALUE=DURATION:PT1H
X-Robots-Tag:noindex
X-PUBLISHED-TTL:PT1H
BEGIN:VTIMEZONE
TZID:America/Los_Angeles
BEGIN:DAYLIGHT
TZOFFSETFROM:-0800
TZOFFSETTO:-0700
TZNAME:PDT
DTSTART:20210314T100000
END:DAYLIGHT
BEGIN:STANDARD
TZOFFSETFROM:-0700
TZOFFSETTO:-0800
TZNAME:PST
DTSTART:20211107T090000
END:STANDARD
BEGIN:DAYLIGHT
TZOFFSETFROM:-0800
TZOFFSETTO:-0700
TZNAME:PDT
DTSTART:20220313T100000
END:DAYLIGHT
BEGIN:STANDARD
TZOFFSETFROM:-0700
TZOFFSETTO:-0800
TZNAME:PST
DTSTART:20221106T090000
END:STANDARD
BEGIN:DAYLIGHT
TZOFFSETFROM:-0800
TZOFFSETTO:-0700
TZNAME:PDT
DTSTART:20230312T100000
END:DAYLIGHT
BEGIN:STANDARD
TZOFFSETFROM:-0700
TZOFFSETTO:-0800
TZNAME:PST
DTSTART:20231105T090000
END:STANDARD
BEGIN:DAYLIGHT
TZOFFSETFROM:-0800
TZOFFSETTO:-0700
TZNAME:PDT
DTSTART:20240310T100000
END:DAYLIGHT
BEGIN:STANDARD
TZOFFSETFROM:-0700
TZOFFSETTO:-0800
TZNAME:PST
DTSTART:20241103T090000
END:STANDARD
BEGIN:DAYLIGHT
TZOFFSETFROM:-0800
TZOFFSETTO:-0700
TZNAME:PDT
DTSTART:20250309T100000
END:DAYLIGHT
BEGIN:STANDARD
TZOFFSETFROM:-0700
TZOFFSETTO:-0800
TZNAME:PST
DTSTART:20251102T090000
END:STANDARD
BEGIN:DAYLIGHT
TZOFFSETFROM:-0800
TZOFFSETTO:-0700
TZNAME:PDT
DTSTART:20260308T100000
END:DAYLIGHT
BEGIN:STANDARD
TZOFFSETFROM:-0700
TZOFFSETTO:-0800
TZNAME:PST
DTSTART:20261101T090000
END:STANDARD
END:VTIMEZONE
BEGIN:VEVENT
DTSTART;TZID=America/Los_Angeles:20250701T080000
DTEND;TZID=America/Los_Angeles:20250710T170000
DTSTAMP:20260423T084405
CREATED:20240805T025225Z
LAST-MODIFIED:20250202T142840Z
UID:4340-1751356800-1752166800@marleypeifer.com
SUMMARY:(sold out) Andes to Amazon 2025
DESCRIPTION:Nature Journaling Adventure: Andes to Amazon 2025\nDo you want to go on a nature journaling adventure with a select team of nature journalers and Marley Peifer as your leader? Do you want to nature journal in some of the most unique and biodiverse environments on the planet? \nWho should come: Nature lovers  who want to take their nature journaling on a tropical adventure in one of the most biodiverse countries in the world.\nWhen we are going: First week of July 2025.\nWhere: You make it to Quito Ecuador and we will do the rest. \nConfirm by January 1st 2025 to save your spot. \nSee the full story in our brochure. \nAre you ready to nature journal dozens of dazzling hummingbirds up close like this?!\nWhat people are saying about the trip…\n“The Andes to Amazon tour was the trip of a lifetime! Marley’s expertise in nature journaling and Nancy’s local knowledge\, made for an informative\, fascinating\, and unforgettable experience!”  -2024 Participant \n“SciBugs/Nancy and Marley are creating life-changing experiences through exploration and nature journaling. They are experts at identifying flora and fauna\, and extremely flexible\, catering to the needs of everyone. I would absolutely join another tour with them.”  -2024 Participant \n“A memorable adventure with such positive and knowledgeable leaders. The mindfulness and respect for the environment -flora and fauna and people was always present and added to the richness of the experience. ”  -2024 Participant \n“I was always afraid to test what I could do. Marley and Nancy both helped me to find my inner Jane Goodall. So wonder full.” -2024 Participant \n“This was a once-in-a-lifetime adventure! The guides and hosts were all wonderful\, and Ecuador is a MUST VISIT country\, filled with ecological and cultural treasures worth saving.” -2024 Participant \nWant more delicious details? Get the Brochure Here.\nClick here if you are ready to join the team!\n  \nAre you ready to nature journal in the Paramo? This is our chance to see Andean Condors…\nWhile sketching beautiful plants next to this incredible creek we spotted this spectacular pair of trogons.\nHave you ever nature journaled by canoe before? It is quite nice… Pink river dolphins\, baby crocodilians\, and mulitple species of sloth and monkey await you.\nWould you nature journal in these hot springs? You can casually paint the mountainous backdrop or perhaps the pendulous trumpet flowers and co-adapted sword-billed hummingbird are calling to you?\nYou will come home with a sketchbook full of once in a lifetime experiences.\nWe will start in the mountains and Páramo around Quito with volcano views\, fascinating dry forests and endemic birds galore\, then we will make our way through cloud forests with dozens of hummingbird species and endless orchids down the slopes to the amazon rainforest with pink river dolphins and more. Each day will be filled with spectacular experiences\, extreme nature nerding\, citizen science\, bug surveys at night\, as well as quality nature journal lessons and personalized coaching from Marley. \n\n\nI want you on the team for 2025!\nDownload the full trip brochure. \nSee more details and signup now. \n  \n 
URL:https://marleypeifer.com/event/andestoamazon2025/
CATEGORIES:Nature Journal Expeditions
ATTACH;FMTTYPE=image/jpeg:https://marleypeifer.com/wp-content/uploads/Copy-of-Andes-to-amazon.jpg
END:VEVENT
BEGIN:VEVENT
DTSTART;TZID=America/Los_Angeles:20241201T080000
DTEND;TZID=America/Los_Angeles:20241208T170000
DTSTAMP:20260423T084405
CREATED:20240117T175425Z
LAST-MODIFIED:20240819T230008Z
UID:4153-1733040000-1733677200@marleypeifer.com
SUMMARY:Nature Journal Beach Vacation 2024
DESCRIPTION:Are you ready to relax into the beauty of a Costa Rican sunset while unlocking your creativity?\nDo you want to rejuvenate your winter season with a week of nature journaling and relaxing on a tropical beach? Do you want to take a break for yourself between Thanksgiving and Christmas? Join Marley and a select group of nature journalers for a week long stay at one of the best beach-side hotels in Costa Rica. We will focus our nature journals on landscapes\, tidepools\, plants and if we are lucky sea turtles. Watercolor landscapes and botanical illustrations will be delved into with more depth. \nWho Should Come: This trip is perfect for anyone from a cold climate that wants to revitalize their nature journaling and their body and soul with the warmth and vibrancy of the tropics. Anyone who wants to combine tropical beach-side relaxation and art will benefit from this trip. We will have daily classes and one-on-one lessons with Marley but there will also be plenty of time to relax or explore on your own. See the Andes to Amazon trip for more adventure\, maximum biodiversity and multiple ecosystem destinations. Cocktails and painting the sunset with your feet in the sand every evening is more the vibe on this trip. \nWhen: 1st of December to 8th December 2024 \nWhere: The idyllic Northwest Coast of Costa Rica. See more about the hotel here. \nHow Much: $1950. Cost covers tuition\, 7 nights at the hotel\, all meals\, contribution to sea turtle program\, and shuttle to and from the airport. Precise cost could vary slightly depending on group size. \nPalo Verde Extension. Want to see more wildlife? Learn about this amazing 4 day trip extension here. \nYou must confirm your spot by August 15th. Full Payment due by September 15th.\nClick to see this year’s itinerary here. \n Updated flight info here. \nSee this year’s trip agreements: Costa Rica trip agreements \nOther Details:  All participants must have their own travel insurance that covers evacuation. This is just a safeguard in a post-covid world. This trip is very safe and Costa Rica is safer than most places I have lived in the USA. \nStay tuned for more information about this Nature Journal Beach Vacation!!! \nYou can wander for miles on this beach right in front of our hotel. The magnificent shells\, curious hermit crabs\, and fascinating beachside plants will stimulate your mind and curiosity. The warm sand on your feet will wash away your your holiday season stress.\nThe beach right in front of the hotel where we can nature journal the sunset every day.\nThe view from the dining area/bar where we will be having our meals (and cocktails).
URL:https://marleypeifer.com/event/nature-journal-beach-vacation-2024/
CATEGORIES:Nature Journal Expeditions,Nature Journaling Classes
ATTACH;FMTTYPE=image/jpeg:https://marleypeifer.com/wp-content/uploads/Nature-Journal-Beach-Vacation-1.jpg
END:VEVENT
BEGIN:VEVENT
DTSTART;TZID=America/Los_Angeles:20240630T080000
DTEND;TZID=America/Los_Angeles:20240710T170000
DTSTAMP:20260423T084405
CREATED:20230212T000154Z
LAST-MODIFIED:20250209T183555Z
UID:3914-1719734400-1720630800@marleypeifer.com
SUMMARY:Andes to Amazon: Nature Journaling Adventure! (FULL)
DESCRIPTION:Nature Journaling Adventure: Andes to Amazon\nDo you want to go on a nature journaling adventure with a select team of nature journalers and Marley Peifer as your leader? Do you want to nature journal in some of the most unique and biodiverse environments on the planet? \nWho should come: Nature lovers  who want to take their nature journaling on a tropical adventure in one of the most biodiverse countries in the world.\nWhen we are going: July 30 through June 10 2024.\nWhere: You make it to Quito Ecuador and we will do the rest. \nConfirm by January 1st to save your spot. \nClick here to sign up or see the web page dedicated to the trip. \nAre you ready to nature journal dozens of dazzling hummingbirds up close like this?!\nCan you imagine sketching Andean Condors flying by while sitting in this meadow?\nAre you ready to take your nature journaling to the next level with daily guidance and lessons from Marley?\nPrepare yourself for some of the most fascinating phenomena you have ever experienced in nature.\nBrace yourself for the mind-blowing avian diversity of Ecuador!\nYou will come home with a sketchbook full of once in a lifetime experiences.\nWe will start in the mountains and Páramo around Quito with volcano views\, fascinating dry forests and endemic birds galore\, then we will make our way through cloud forests with dozens of hummingbird species and endless orchids down the slopes to the amazon rainforest with pink river dolphins and more. Each day will be filled with spectacular experiences\, extreme nature nerding\, citizen science\, bug surveys at night\, as well as quality nature journal lessons and personalized coaching from Marley. \nI want YOU to join me on this adventure!\nGet more info on the dedicated page for the trip here.
URL:https://marleypeifer.com/event/andes-to-amazon-nature-journaling-adventure/
CATEGORIES:Nature Journal Expeditions
ATTACH;FMTTYPE=image/jpeg:https://marleypeifer.com/wp-content/uploads/Andes-to-Amazon.jpg
END:VEVENT
BEGIN:VEVENT
DTSTART;TZID=America/Los_Angeles:20231203T080000
DTEND;TZID=America/Los_Angeles:20231210T170000
DTSTAMP:20260423T084405
CREATED:20230222T172508Z
LAST-MODIFIED:20230802T143725Z
UID:3950-1701590400-1702227600@marleypeifer.com
SUMMARY:Nature Journal Beach Vacation
DESCRIPTION:Nature Journal Beach Vacation: Costa Rica\nAre you ready to relax into the beauty of a Costa Rican sunset while unlocking your creativity? Do you want to rejuvenate your winter season with a week of nature journaling and relaxing on a tropical beach? Do you want to take a break for yourself between Thanksgiving and Christmas? Join Marley and a select group of nature journalers for a week long stay at one of the premiere beach-side hotels in Costa Rica. We will focus our nature journals on landscapes\, tidepools\, plants and if we are lucky sea turtles. Watercolor landscapes and botanical illustrations will be delved into with more depth. \nWho Should Come: This trip is perfect for anyone from a cold climate that wants to revitalize their nature journaling and their body and soul with the warmth and vibrancy of the tropics. Anyone who wants to combine tropical beach-side relaxation and art will benefit from this trip. We will have daily classes and one-on-one lessons with Marley but there will also be plenty of time to relax or explore on your own. No long hikes or extreme adventures on this trip (see the Andes to Amazon trip for that). Cocktails and painting the sunset with your feet in the sand every evening is more like it 😉 \nWhen: 3rd of December to 10th December. \nWhere: The idyllic Northwest Coast of Costa Rica. See more about the hotel here. \nHow Much: $1750 (price may vary slightly depending on group size and if you choose double or single rooms.) Cost covers tuition\, 7 nights at the hotel\, all meals\, and shuttle to and from the airport. \nReserve your spot: by depositing $450 to Marley (marley339@gmail.com) on Paypal by August 5th. If for some reason we can not get enough people by August 5th I will refund the deposits. \nNEW! Click to see the itinerary here. \nNEW! More about flights here. \nDownload and print Costa Rica trip agreements \nOther Details:  All participants must have their own travel insurance that covers evacuation. This is just a safeguard in a post-covid world. This trip is very safe and Costa Rica is safer than most places I have lived in the USA. \nStay tuned for more information about this Nature Journal Beach Vacation!!! \n \n  \n 
URL:https://marleypeifer.com/event/nature-journal-beach-vacation/
CATEGORIES:Nature Journal Expeditions
ATTACH;FMTTYPE=image/jpeg:https://marleypeifer.com/wp-content/uploads/Nature-Journal-Beach-Vacation.jpg
END:VEVENT
BEGIN:VEVENT
DTSTART;TZID=America/Los_Angeles:20220717T080000
DTEND;TZID=America/Los_Angeles:20220724T170000
DTSTAMP:20260423T084405
CREATED:20200113T025152Z
LAST-MODIFIED:20200526T215949Z
UID:1730-1658044800-1658682000@marleypeifer.com
SUMMARY:Nature Journal Galapagos Voyage!
DESCRIPTION:In the summer of 2022 I will be nature journaling in the Galapagos Islands with John Muir Laws and a boat-full of nature journalers! The trip is already full but you can enjoy it vicariously through some of the videos\, photos\, and nature journal pages that I will share with you. (there might be more trips like this in the future too!) \nI will also be making an illustrated publication based on my trip similar to my Tanzania Journals. This publication will be available for my Patreon supporters and through my website. \nLet me know if there are things about the Galapagos that you want me to share  with you. \nNature Journal Galapagos Voyage
URL:https://marleypeifer.com/event/nature-journal-voyage-in-the-galapagos/
LOCATION:Galapagos Islands\, Puerto Ayora\, Ecuador
CATEGORIES:Nature Journal Expeditions
ATTACH;FMTTYPE=image/jpeg:https://marleypeifer.com/wp-content/uploads/2020/01/7D6755AC-07C5-4B0D-A761-9E0DACD77FCF-e1578883530639.jpeg
END:VEVENT
END:VCALENDAR