BEGIN:VCALENDAR
VERSION:2.0
PRODID:-//Marley Peifer - ECPv6.15.20//NONSGML v1.0//EN
CALSCALE:GREGORIAN
METHOD:PUBLISH
X-WR-CALNAME:Marley Peifer
X-ORIGINAL-URL:https://marleypeifer.com
X-WR-CALDESC:Events for Marley Peifer
REFRESH-INTERVAL;VALUE=DURATION:PT1H
X-Robots-Tag:noindex
X-PUBLISHED-TTL:PT1H
BEGIN:VTIMEZONE
TZID:UTC
BEGIN:STANDARD
TZOFFSETFROM:+0000
TZOFFSETTO:+0000
TZNAME:UTC
DTSTART:20150101T000000
END:STANDARD
END:VTIMEZONE
BEGIN:VEVENT
DTSTART;TZID=UTC:20160228T100000
DTEND;TZID=UTC:20160228T160000
DTSTAMP:20260423T152753
CREATED:20160713T202853Z
LAST-MODIFIED:20160713T202853Z
UID:460-1456653600-1456675200@marleypeifer.com
SUMMARY:Tracking with the Nature Journal Club
DESCRIPTION:Tracking and nature journaling; a match made in heaven!\nCome explore coastal lagoons\, meadows\, and dunes for an awesome day of tracking and journaling in a great location. We will approach tracking in a holistic sense and learn to integrate it into our quiver of naturalist skills. \nAbbot’s Lagoon in Point Reyes National Seashore is a world class location for tracking and bird watching where we are sure to find many goodies to fill our journals. Badgers\, otters\, bobcat\, owls\, ravens\, falcons\, and foxes are a few of the denizens whose tracks and sign we might see. \n 
URL:https://marleypeifer.com/event/tracking-with-the-nature-journal-club/
END:VEVENT
END:VCALENDAR